Package: GIGSEA Version: 1.24.0 Command: /home/biocbuild/bbs-3.20-bioc/R/bin/R CMD build --keep-empty-dirs --no-resave-data --md5 GIGSEA StartedAt: 2025-02-03 17:36:53 -0500 (Mon, 03 Feb 2025) EndedAt: 2025-02-03 17:40:25 -0500 (Mon, 03 Feb 2025) EllapsedTime: 212.2 seconds RetCode: 0 Status: OK PackageFile: GIGSEA_1.24.0.tar.gz PackageFileSize: 1.327 MiB