Package: GIGSEA Version: 1.24.0 Command: /home/biocbuild/bbs-3.20-bioc/R/bin/R CMD INSTALL GIGSEA StartedAt: 2025-02-03 15:13:51 -0500 (Mon, 03 Feb 2025) EndedAt: 2025-02-03 15:14:13 -0500 (Mon, 03 Feb 2025) EllapsedTime: 21.9 seconds RetCode: 0 Status: OK