Package: GIGSEA Version: 1.24.0 Command: /home/biocbuild/R/R/bin/R CMD check --install=check:GIGSEA.install-out.txt --library=/home/biocbuild/R/R/site-library --no-vignettes --timings GIGSEA_1.24.0.tar.gz StartedAt: 2025-02-04 07:29:23 -0000 (Tue, 04 Feb 2025) EndedAt: 2025-02-04 07:31:20 -0000 (Tue, 04 Feb 2025) EllapsedTime: 117.1 seconds RetCode: 0 Status: OK CheckDir: GIGSEA.Rcheck Warnings: 0