Package: GLAD Version: 2.70.0 Command: /Library/Frameworks/R.framework/Resources/bin/R CMD build --keep-empty-dirs --no-resave-data GLAD StartedAt: 2025-02-04 00:27:32 -0500 (Tue, 04 Feb 2025) EndedAt: 2025-02-04 00:28:03 -0500 (Tue, 04 Feb 2025) EllapsedTime: 30.8 seconds RetCode: 0 Status: OK PackageFile: GLAD_2.70.0.tar.gz PackageFileSize: 1.302 MiB