Package: GLAD
Version: 2.70.0
Command: /Library/Frameworks/R.framework/Resources/bin/R CMD INSTALL GLAD
StartedAt: 2024-11-08 15:13:05 -0500 (Fri, 08 Nov 2024)
EndedAt: 2024-11-08 15:13:11 -0500 (Fri, 08 Nov 2024)
EllapsedTime: 6.5 seconds
RetCode: 0
Status: OK