Package: GLAD
Version: 2.70.0
Command: /home/biocbuild/bbs-3.20-bioc/R/bin/R CMD INSTALL GLAD
StartedAt: 2025-02-17 15:11:39 -0500 (Mon, 17 Feb 2025)
EndedAt: 2025-02-17 15:11:54 -0500 (Mon, 17 Feb 2025)
EllapsedTime: 14.5 seconds
RetCode: 0
Status: OK