Package: GMRP Version: 1.34.0 Command: /home/biocbuild/bbs-3.20-bioc/R/bin/R CMD INSTALL GMRP StartedAt: 2025-02-03 15:21:49 -0500 (Mon, 03 Feb 2025) EndedAt: 2025-02-03 15:21:57 -0500 (Mon, 03 Feb 2025) EllapsedTime: 8.7 seconds RetCode: 0 Status: OK