Package: GMRP Version: 1.34.0 Command: F:\biocbuild\bbs-3.20-bioc\R\bin\R.exe CMD INSTALL GMRP StartedAt: 2025-02-03 15:57:02 -0500 (Mon, 03 Feb 2025) EndedAt: 2025-02-03 15:57:20 -0500 (Mon, 03 Feb 2025) EllapsedTime: 18.0 seconds RetCode: 0 Status: OK