Package: GMRP Version: 1.34.0 Command: /home/biocbuild/R/R/bin/R CMD build --keep-empty-dirs --no-resave-data GMRP StartedAt: 2025-02-04 00:01:04 -0000 (Tue, 04 Feb 2025) EndedAt: 2025-02-04 00:01:25 -0000 (Tue, 04 Feb 2025) EllapsedTime: 21.0 seconds RetCode: 0 Status: OK PackageFile: GMRP_1.34.0.tar.gz PackageFileSize: 885.1 KiB