Package: GMRP Version: 1.34.0 Command: /home/biocbuild/R/R/bin/R CMD check --install=check:GMRP.install-out.txt --library=/home/biocbuild/R/R/site-library --no-vignettes --timings GMRP_1.34.0.tar.gz StartedAt: 2025-02-04 07:32:02 -0000 (Tue, 04 Feb 2025) EndedAt: 2025-02-04 07:33:22 -0000 (Tue, 04 Feb 2025) EllapsedTime: 80.0 seconds RetCode: 0 Status: OK CheckDir: GMRP.Rcheck Warnings: 0