Package: GMRP Version: 1.34.0 Command: /home/biocbuild/R/R/bin/R CMD INSTALL GMRP StartedAt: 2025-02-03 20:32:06 -0000 (Mon, 03 Feb 2025) EndedAt: 2025-02-03 20:32:18 -0000 (Mon, 03 Feb 2025) EllapsedTime: 12.2 seconds RetCode: 0 Status: OK