Package: GNET2 Version: 1.22.0 Command: rm -rf GNET2.buildbin-libdir && mkdir GNET2.buildbin-libdir && /Users/biocbuild/BBS/utils/build-universal.sh GNET2_1.22.0.tar.gz /Library/Frameworks/R.framework/Resources/bin/R GNET2.buildbin-libdir StartedAt: 2025-02-05 16:05:30 -0500 (Wed, 05 Feb 2025) EndedAt: 2025-02-05 16:06:08 -0500 (Wed, 05 Feb 2025) EllapsedTime: 38.1 seconds RetCode: 0 Status: OK PackageFile: GNET2_1.22.0.tgz PackageFileSize: 912.6 KiB