Package: GNET2 Version: 1.22.0 Command: /Library/Frameworks/R.framework/Resources/bin/R CMD check --install=check:GNET2.install-out.txt --library=/Library/Frameworks/R.framework/Resources/library --no-vignettes --timings GNET2_1.22.0.tar.gz StartedAt: 2025-02-18 21:06:48 -0500 (Tue, 18 Feb 2025) EndedAt: 2025-02-18 21:09:51 -0500 (Tue, 18 Feb 2025) EllapsedTime: 183.1 seconds RetCode: 0 Status: OK CheckDir: GNET2.Rcheck Warnings: 0