Package: GNET2 Version: 1.22.0 Command: /Library/Frameworks/R.framework/Resources/bin/R CMD build --keep-empty-dirs --no-resave-data GNET2 StartedAt: 2025-02-03 19:18:21 -0500 (Mon, 03 Feb 2025) EndedAt: 2025-02-03 19:20:06 -0500 (Mon, 03 Feb 2025) EllapsedTime: 104.9 seconds RetCode: 0 Status: OK PackageFile: GNET2_1.22.0.tar.gz PackageFileSize: 786.2 KiB