Package: GNET2 Version: 1.22.0 Command: /Library/Frameworks/R.framework/Resources/bin/R CMD INSTALL GNET2 StartedAt: 2025-02-03 15:58:53 -0500 (Mon, 03 Feb 2025) EndedAt: 2025-02-03 15:59:58 -0500 (Mon, 03 Feb 2025) EllapsedTime: 65.8 seconds RetCode: 0 Status: OK