Package: GNET2 Version: 1.22.0 Command: /home/biocbuild/bbs-3.20-bioc/R/bin/R CMD INSTALL GNET2 StartedAt: 2025-02-03 15:38:41 -0500 (Mon, 03 Feb 2025) EndedAt: 2025-02-03 15:39:14 -0500 (Mon, 03 Feb 2025) EllapsedTime: 32.2 seconds RetCode: 0 Status: OK