Package: GNET2 Version: 1.22.0 Command: F:\biocbuild\bbs-3.20-bioc\R\bin\R.exe CMD INSTALL GNET2 StartedAt: 2025-02-03 16:18:52 -0500 (Mon, 03 Feb 2025) EndedAt: 2025-02-03 16:20:42 -0500 (Mon, 03 Feb 2025) EllapsedTime: 110.0 seconds RetCode: 0 Status: OK