Package: GNOSIS Version: 1.4.0 Command: rm -rf GNOSIS.buildbin-libdir && mkdir GNOSIS.buildbin-libdir && /Users/biocbuild/BBS/utils/build-universal.sh GNOSIS_1.4.0.tar.gz /Library/Frameworks/R.framework/Resources/bin/R GNOSIS.buildbin-libdir StartedAt: 2025-02-01 15:09:52 -0500 (Sat, 01 Feb 2025) EndedAt: 2025-02-01 15:11:06 -0500 (Sat, 01 Feb 2025) EllapsedTime: 73.9 seconds RetCode: 0 Status: OK PackageFile: GNOSIS_1.4.0.tgz PackageFileSize: 2.529 MiB