Package: GNOSIS Version: 1.4.0 Command: /Library/Frameworks/R.framework/Resources/bin/R CMD check --install=check:GNOSIS.install-out.txt --library=/Library/Frameworks/R.framework/Resources/library --no-vignettes --timings GNOSIS_1.4.0.tar.gz StartedAt: 2025-01-31 21:05:57 -0500 (Fri, 31 Jan 2025) EndedAt: 2025-01-31 21:12:43 -0500 (Fri, 31 Jan 2025) EllapsedTime: 406.1 seconds RetCode: 0 Status: WARNINGS CheckDir: GNOSIS.Rcheck Warnings: 1