Package: GNOSIS Version: 1.4.0 Command: /Library/Frameworks/R.framework/Resources/bin/R CMD INSTALL GNOSIS StartedAt: 2025-01-30 18:14:24 -0500 (Thu, 30 Jan 2025) EndedAt: 2025-01-30 18:15:34 -0500 (Thu, 30 Jan 2025) EllapsedTime: 70.3 seconds RetCode: 0 Status: OK