Package: GNOSIS Version: 1.4.0 Command: /home/biocbuild/R/R/bin/R CMD INSTALL GNOSIS StartedAt: 2024-11-19 21:29:04 -0000 (Tue, 19 Nov 2024) EndedAt: 2024-11-19 21:30:30 -0000 (Tue, 19 Nov 2024) EllapsedTime: 85.7 seconds RetCode: 0 Status: OK