Package: GNOSIS Version: 1.4.0 Command: /Library/Frameworks/R.framework/Resources/bin/R CMD build --keep-empty-dirs --no-resave-data GNOSIS StartedAt: 2024-11-19 17:02:20 -0500 (Tue, 19 Nov 2024) EndedAt: 2024-11-19 17:04:03 -0500 (Tue, 19 Nov 2024) EllapsedTime: 102.6 seconds RetCode: 0 Status: OK PackageFile: GNOSIS_1.4.0.tar.gz PackageFileSize: 3.374 MiB