Package: GNOSIS Version: 1.4.0 Command: rm -rf GNOSIS.buildbin-libdir && mkdir GNOSIS.buildbin-libdir && /Users/biocbuild/BBS/utils/build-universal.sh GNOSIS_1.4.0.tar.gz /Library/Frameworks/R.framework/Resources/bin/R GNOSIS.buildbin-libdir StartedAt: 2025-01-31 12:55:04 -0500 (Fri, 31 Jan 2025) EndedAt: 2025-01-31 12:57:22 -0500 (Fri, 31 Jan 2025) EllapsedTime: 137.3 seconds RetCode: 0 Status: OK PackageFile: GNOSIS_1.4.0.tgz PackageFileSize: 2.529 MiB