Package: GNOSIS Version: 1.4.0 Command: /Library/Frameworks/R.framework/Resources/bin/R CMD INSTALL GNOSIS StartedAt: 2025-01-30 16:42:42 -0500 (Thu, 30 Jan 2025) EndedAt: 2025-01-30 16:44:55 -0500 (Thu, 30 Jan 2025) EllapsedTime: 133.1 seconds RetCode: 0 Status: OK