Package: GNOSIS Version: 1.4.0 Command: /home/biocbuild/bbs-3.20-bioc/R/bin/R CMD INSTALL GNOSIS StartedAt: 2025-01-30 15:59:50 -0500 (Thu, 30 Jan 2025) EndedAt: 2025-01-30 16:00:48 -0500 (Thu, 30 Jan 2025) EllapsedTime: 58.3 seconds RetCode: 0 Status: OK