Package: GNOSIS Version: 1.4.0 Command: chmod a+r GNOSIS -R && F:\biocbuild\bbs-3.20-bioc\R\bin\R.exe CMD build --keep-empty-dirs --no-resave-data GNOSIS StartedAt: 2025-01-30 19:17:46 -0500 (Thu, 30 Jan 2025) EndedAt: 2025-01-30 19:19:55 -0500 (Thu, 30 Jan 2025) EllapsedTime: 129.0 seconds RetCode: 0 Status: OK PackageFile: GNOSIS_1.4.0.tar.gz PackageFileSize: 3.373 MiB