Package: GNOSIS Version: 1.4.0 Command: F:\biocbuild\bbs-3.20-bioc\R\bin\R.exe CMD check --no-multiarch --install=check:GNOSIS.install-out.txt --library=F:\biocbuild\bbs-3.20-bioc\R\library --no-vignettes --timings GNOSIS_1.4.0.tar.gz StartedAt: 2025-01-31 02:35:57 -0500 (Fri, 31 Jan 2025) EndedAt: 2025-01-31 02:43:26 -0500 (Fri, 31 Jan 2025) EllapsedTime: 448.8 seconds RetCode: 0 Status: WARNINGS CheckDir: GNOSIS.Rcheck Warnings: 1