Package: GNOSIS Version: 1.4.0 Command: /home/biocbuild/R/R/bin/R CMD build --keep-empty-dirs --no-resave-data GNOSIS StartedAt: 2025-01-31 00:01:28 -0000 (Fri, 31 Jan 2025) EndedAt: 2025-01-31 00:03:08 -0000 (Fri, 31 Jan 2025) EllapsedTime: 100.0 seconds RetCode: 0 Status: OK PackageFile: GNOSIS_1.4.0.tar.gz PackageFileSize: 3.4 MiB