Package: GNOSIS Version: 1.4.0 Command: /home/biocbuild/bbs-3.20-bioc/R/bin/R CMD check --install=check:GNOSIS.install-out.txt --library=/home/biocbuild/bbs-3.20-bioc/R/site-library --timings GNOSIS_1.4.0.tar.gz StartedAt: 2024-11-20 03:55:45 -0500 (Wed, 20 Nov 2024) EndedAt: 2024-11-20 04:01:52 -0500 (Wed, 20 Nov 2024) EllapsedTime: 367.0 seconds RetCode: 0 Status: WARNINGS CheckDir: GNOSIS.Rcheck Warnings: 1