Package: GOSemSim
Version: 2.32.0
Command: rm -rf GOSemSim.buildbin-libdir && mkdir GOSemSim.buildbin-libdir && /Users/biocbuild/BBS/utils/build-universal.sh GOSemSim_2.32.0.tar.gz /Library/Frameworks/R.framework/Resources/bin/R GOSemSim.buildbin-libdir
StartedAt: 2024-11-20 04:29:56 -0500 (Wed, 20 Nov 2024)
EndedAt: 2024-11-20 04:30:33 -0500 (Wed, 20 Nov 2024)
EllapsedTime: 36.8 seconds
RetCode: 0
Status: OK
PackageFile: GOSemSim_2.32.0.tgz
PackageFileSize: 1.144 <A href="http://en.wikipedia.org/wiki/MiB" target="_blank">MiB</A>