Package: GOSemSim Version: 2.32.0 Command: /Library/Frameworks/R.framework/Resources/bin/R CMD build --keep-empty-dirs --no-resave-data GOSemSim StartedAt: 2025-02-03 19:19:30 -0500 (Mon, 03 Feb 2025) EndedAt: 2025-02-03 19:20:24 -0500 (Mon, 03 Feb 2025) EllapsedTime: 53.9 seconds RetCode: 0 Status: OK PackageFile: GOSemSim_2.32.0.tar.gz PackageFileSize: 594.7 KiB