Package: GOSemSim Version: 2.32.0 Command: /Library/Frameworks/R.framework/Resources/bin/R CMD check --install=check:GOSemSim.install-out.txt --library=/Library/Frameworks/R.framework/Resources/library --no-vignettes --timings GOSemSim_2.32.0.tar.gz StartedAt: 2025-02-04 04:34:38 -0500 (Tue, 04 Feb 2025) EndedAt: 2025-02-04 04:39:33 -0500 (Tue, 04 Feb 2025) EllapsedTime: 295.7 seconds RetCode: 0 Status: OK CheckDir: GOSemSim.Rcheck Warnings: 0