Package: GOSemSim Version: 2.32.0 Command: /home/biocbuild/bbs-3.20-bioc/R/bin/R CMD build --keep-empty-dirs --no-resave-data --md5 GOSemSim StartedAt: 2025-02-03 17:39:37 -0500 (Mon, 03 Feb 2025) EndedAt: 2025-02-03 17:40:00 -0500 (Mon, 03 Feb 2025) EllapsedTime: 23.0 seconds RetCode: 0 Status: OK PackageFile: GOSemSim_2.32.0.tar.gz PackageFileSize: 596.5 KiB