Package: GOSemSim Version: 2.32.0 Command: /home/biocbuild/bbs-3.20-bioc/R/bin/R CMD check --install=check:GOSemSim.install-out.txt --library=/home/biocbuild/bbs-3.20-bioc/R/site-library --timings GOSemSim_2.32.0.tar.gz StartedAt: 2025-02-03 22:55:14 -0500 (Mon, 03 Feb 2025) EndedAt: 2025-02-03 22:57:32 -0500 (Mon, 03 Feb 2025) EllapsedTime: 138.1 seconds RetCode: 0 Status: OK CheckDir: GOSemSim.Rcheck Warnings: 0