Package: GOSemSim Version: 2.32.0 Command: /home/biocbuild/bbs-3.20-bioc/R/bin/R CMD INSTALL GOSemSim StartedAt: 2025-02-03 15:27:11 -0500 (Mon, 03 Feb 2025) EndedAt: 2025-02-03 15:27:34 -0500 (Mon, 03 Feb 2025) EllapsedTime: 22.7 seconds RetCode: 0 Status: OK