Package: GOexpress Version: 1.40.0 Command: /home/biocbuild/bbs-3.20-bioc/R/bin/R CMD check --install=check:GOexpress.install-out.txt --library=/home/biocbuild/bbs-3.20-bioc/R/site-library --timings GOexpress_1.40.0.tar.gz StartedAt: 2025-02-03 22:53:38 -0500 (Mon, 03 Feb 2025) EndedAt: 2025-02-03 22:55:48 -0500 (Mon, 03 Feb 2025) EllapsedTime: 130.1 seconds RetCode: 0 Status: WARNINGS CheckDir: GOexpress.Rcheck Warnings: 1