Package: GOfuncR Version: 1.26.0 Command: /Library/Frameworks/R.framework/Resources/bin/R CMD build --keep-empty-dirs --no-resave-data GOfuncR StartedAt: 2025-02-04 00:44:14 -0500 (Tue, 04 Feb 2025) EndedAt: 2025-02-04 00:49:38 -0500 (Tue, 04 Feb 2025) EllapsedTime: 323.7 seconds RetCode: 0 Status: OK PackageFile: GOfuncR_1.26.0.tar.gz PackageFileSize: 5.209 MiB