Package: GOfuncR Version: 1.26.0 Command: rm -rf GOfuncR.buildbin-libdir && mkdir GOfuncR.buildbin-libdir && /Users/biocbuild/BBS/utils/build-universal.sh GOfuncR_1.26.0.tar.gz /Library/Frameworks/R.framework/Resources/bin/R GOfuncR.buildbin-libdir StartedAt: 2025-02-04 13:05:08 -0500 (Tue, 04 Feb 2025) EndedAt: 2025-02-04 13:09:29 -0500 (Tue, 04 Feb 2025) EllapsedTime: 261.5 seconds RetCode: 0 Status: OK PackageFile: GOfuncR_1.26.0.tgz PackageFileSize: 4.343 MiB