Package: GOfuncR Version: 1.26.0 Command: /Library/Frameworks/R.framework/Resources/bin/R CMD check --install=check:GOfuncR.install-out.txt --library=/Library/Frameworks/R.framework/Resources/library --no-vignettes --timings GOfuncR_1.26.0.tar.gz StartedAt: 2025-02-11 04:17:54 -0500 (Tue, 11 Feb 2025) EndedAt: 2025-02-11 04:27:55 -0500 (Tue, 11 Feb 2025) EllapsedTime: 601.3 seconds RetCode: 0 Status: OK CheckDir: GOfuncR.Rcheck Warnings: 0