Package: GOfuncR Version: 1.26.0 Command: rm -rf GOfuncR.buildbin-libdir && mkdir GOfuncR.buildbin-libdir && F:\biocbuild\bbs-3.20-bioc\R\bin\R.exe CMD INSTALL --build --library=GOfuncR.buildbin-libdir GOfuncR_1.26.0.tar.gz StartedAt: 2025-01-31 08:46:55 -0500 (Fri, 31 Jan 2025) EndedAt: 2025-01-31 08:48:58 -0500 (Fri, 31 Jan 2025) EllapsedTime: 123.7 seconds RetCode: 0 Status: OK PackageFile: GOfuncR_1.26.0.zip PackageFileSize: 4.192 MiB