Package: GOfuncR Version: 1.26.0 Command: F:\biocbuild\bbs-3.20-bioc\R\bin\R.exe CMD INSTALL GOfuncR StartedAt: 2025-01-30 15:41:46 -0500 (Thu, 30 Jan 2025) EndedAt: 2025-01-30 15:43:49 -0500 (Thu, 30 Jan 2025) EllapsedTime: 123.0 seconds RetCode: 0 Status: OK