Package: GOpro Version: 1.32.0 Command: rm -rf GOpro.buildbin-libdir && mkdir GOpro.buildbin-libdir && /Users/biocbuild/BBS/utils/build-universal.sh GOpro_1.32.0.tar.gz /Library/Frameworks/R.framework/Resources/bin/R GOpro.buildbin-libdir StartedAt: 2025-02-05 16:05:57 -0500 (Wed, 05 Feb 2025) EndedAt: 2025-02-05 16:06:39 -0500 (Wed, 05 Feb 2025) EllapsedTime: 41.9 seconds RetCode: 0 Status: OK PackageFile: GOpro_1.32.0.tgz PackageFileSize: 1.451 MiB