Package: GOpro Version: 1.32.0 Command: /Library/Frameworks/R.framework/Resources/bin/R CMD check --install=check:GOpro.install-out.txt --library=/Library/Frameworks/R.framework/Resources/library --no-vignettes --timings GOpro_1.32.0.tar.gz StartedAt: 2025-02-04 21:41:14 -0500 (Tue, 04 Feb 2025) EndedAt: 2025-02-04 21:45:30 -0500 (Tue, 04 Feb 2025) EllapsedTime: 255.9 seconds RetCode: 0 Status: OK CheckDir: GOpro.Rcheck Warnings: 0