Package: GOpro Version: 1.32.0 Command: /home/biocbuild/bbs-3.20-bioc/R/bin/R CMD build --keep-empty-dirs --no-resave-data --md5 GOpro StartedAt: 2025-02-17 17:25:39 -0500 (Mon, 17 Feb 2025) EndedAt: 2025-02-17 17:26:42 -0500 (Mon, 17 Feb 2025) EllapsedTime: 63.1 seconds RetCode: 0 Status: OK PackageFile: GOpro_1.32.0.tar.gz PackageFileSize: 1.134 <A href="http://en.wikipedia.org/wiki/MiB" target="_blank">MiB</A>