Package: GOpro Version: 1.32.0 Command: /home/biocbuild/bbs-3.20-bioc/R/bin/R CMD INSTALL GOpro StartedAt: 2025-02-03 15:25:22 -0500 (Mon, 03 Feb 2025) EndedAt: 2025-02-03 15:25:55 -0500 (Mon, 03 Feb 2025) EllapsedTime: 33.0 seconds RetCode: 0 Status: OK