Package: GOpro Version: 1.32.0 Command: /home/biocbuild/R/R/bin/R CMD build --keep-empty-dirs --no-resave-data GOpro StartedAt: 2025-02-04 00:02:37 -0000 (Tue, 04 Feb 2025) EndedAt: 2025-02-04 00:04:04 -0000 (Tue, 04 Feb 2025) EllapsedTime: 87.0 seconds RetCode: 0 Status: OK PackageFile: GOpro_1.32.0.tar.gz PackageFileSize: 836 KiB