Package: GOpro
Version: 1.32.0
Command: /home/biocbuild/bbs-3.20-bioc/R/bin/R CMD build --keep-empty-dirs --no-resave-data GOpro
StartedAt: 2024-11-19 19:16:24 -0500 (Tue, 19 Nov 2024)
EndedAt: 2024-11-19 19:17:28 -0500 (Tue, 19 Nov 2024)
EllapsedTime: 64.7 seconds
RetCode: 0
Status: OK
PackageFile: GOpro_1.32.0.tar.gz
PackageFileSize: 1.133 <A href="http://en.wikipedia.org/wiki/MiB" target="_blank">MiB</A>