Package: GRENITS Version: 1.58.0 Command: /Library/Frameworks/R.framework/Resources/bin/R CMD build --keep-empty-dirs --no-resave-data GRENITS StartedAt: 2025-02-04 00:57:45 -0500 (Tue, 04 Feb 2025) EndedAt: 2025-02-04 00:59:30 -0500 (Tue, 04 Feb 2025) EllapsedTime: 104.3 seconds RetCode: 0 Status: OK PackageFile: GRENITS_1.58.0.tar.gz PackageFileSize: 266.9 KiB