Package: GRENITS
Version: 1.58.0
Command: /Library/Frameworks/R.framework/Resources/bin/R CMD check --install=check:GRENITS.install-out.txt --library=/Library/Frameworks/R.framework/Resources/library --no-vignettes --timings GRENITS_1.58.0.tar.gz
StartedAt: 2025-02-18 21:24:02 -0500 (Tue, 18 Feb 2025)
EndedAt: 2025-02-18 21:27:57 -0500 (Tue, 18 Feb 2025)
EllapsedTime: 235.3 seconds
RetCode: 0
Status: OK
CheckDir: GRENITS.Rcheck
Warnings: 0