Package: GRENITS Version: 1.58.0 Command: /Library/Frameworks/R.framework/Resources/bin/R CMD build --keep-empty-dirs --no-resave-data GRENITS StartedAt: 2025-02-03 19:23:47 -0500 (Mon, 03 Feb 2025) EndedAt: 2025-02-03 19:27:08 -0500 (Mon, 03 Feb 2025) EllapsedTime: 200.9 seconds RetCode: 0 Status: OK PackageFile: GRENITS_1.58.0.tar.gz PackageFileSize: 267 KiB